BEGIN:VCALENDAR
VERSION:2.0
PRODID:-//ChamberMaster//Event Calendar 2.0//EN
METHOD:PUBLISH
X-PUBLISHED-TTL:P3D
REFRESH-INTERVAL:P3D
CALSCALE:GREGORIAN
BEGIN:VEVENT
DTSTART:20251008T230000Z
DTEND:20251009T003000Z
X-MICROSOFT-CDO-ALLDAYEVENT:FALSE
SUMMARY:David Grier live at Krazy Kup
DESCRIPTION:Join us in the loft at Krazy Kup for an opportunity to be up close and personal with David Grier\, a world class picker! Tickets are $20 and available in house or online at eventbrite.com
X-ALT-DESC;FMTTYPE=text/html:Join us in the loft at Krazy Kup for an opportunity to be up close and personal with David Grier\, a world class picker! Tickets are $20 and available in house or online at eventbrite.com
LOCATION:
UID:e.2462.17550
SEQUENCE:3
DTSTAMP:20260424T212536Z
URL:https://business.plantcity.org/events/details/david-grier-live-at-krazy-kup-10-08-2025-17550
END:VEVENT

END:VCALENDAR
