BEGIN:VCALENDAR
VERSION:2.0
PRODID:-//ChamberMaster//Event Calendar 2.0//EN
METHOD:PUBLISH
X-PUBLISHED-TTL:P3D
REFRESH-INTERVAL:P3D
CALSCALE:GREGORIAN
BEGIN:VEVENT
DTSTART:20250412T153000Z
DTEND:20250412T183000Z
X-MICROSOFT-CDO-ALLDAYEVENT:FALSE
SUMMARY:Cuddle Selfie Day at the Rescue Pets of Florida Farm!
DESCRIPTION:Join us on April 12 for Cuddle Selfie Day\, part of our Kitten & Puppy Season Baby Shower Weekend! This family-friendly event is full of fun\, snuggles\, and adorable photo ops with our rescue animals all while helping us prepare for the influx of kittens and puppies in need. Enjoy selfie stations with friendly farm animals\, games\, a bounce house\, and an egg hunt with a twist! Refreshments will be available\, and if you bring a donation of kitten or puppy supplies\, you'll receive a special treat. A $10 donation per adult and $5 for ages 4-18 helps support our rescue (free for kids under 4 and seniors 81+). Join us at our farm in Plant City for a day of cuddles\, smiles\, and giving back! ????
X-ALT-DESC;FMTTYPE=text/html:Join us on April 12 for Cuddle Selfie Day\, part of our Kitten &amp\; Puppy Season Baby Shower Weekend! This family-friendly event is full of fun\, snuggles\, and adorable photo ops with our rescue animals&mdash\;all while helping us prepare for the influx of kittens and puppies in need. Enjoy selfie stations with friendly farm animals\, games\, a bounce house\, and an egg hunt with a twist! Refreshments will be available\, and if you bring a donation of kitten or puppy supplies\, you&rsquo\;ll receive a special treat. A $10 donation per adult and $5 for ages 4-18 helps support our rescue (free for kids under 4 and seniors 81+). Join us at our farm in Plant City for a day of cuddles\, smiles\, and giving back! ????
LOCATION:Rescue Pets of Florida Farm 7805 Paul Buchman Hwy. Plant City\, FL 33565
UID:e.2462.16939
SEQUENCE:3
DTSTAMP:20260419T182317Z
URL:https://business.plantcity.org/events/details/cuddle-selfie-day-at-the-rescue-pets-of-florida-farm-16939
END:VEVENT

END:VCALENDAR
