BEGIN:VCALENDAR
VERSION:2.0
PRODID:-//ChamberMaster//Event Calendar 2.0//EN
METHOD:PUBLISH
X-PUBLISHED-TTL:P3D
REFRESH-INTERVAL:P3D
CALSCALE:GREGORIAN
BEGIN:VEVENT
DTSTART:20250411T220000Z
DTEND:20250411T230000Z
X-MICROSOFT-CDO-ALLDAYEVENT:FALSE
SUMMARY:Create Your Own Succulent Workshop & Seed Swap
DESCRIPTION:Spring is here! Join us at Mulberry Market for a fun morning of creating your own succulent plant to take home! We provide a variety of beautiful succulents and cacti of many varieties and colors. There will also be a selection pots\, plants and other fun containers\; or you can bring your own! Have you ever seen a succulent planted in a teacup? Get creative! This class will also be the perfect time to bring your own seeds\, propagated clippings or starts to swap! You can also shop our store and visit our greenhouse before or after the class! April 11th\, 2025 - 6pm-7pm Class includes: 1 hour of instruction and fun\, your choice of 2-3 succulents or cacti and a pot of your choosing. Bring a friend\, this class is sure to be lots of fun!
X-ALT-DESC;FMTTYPE=text/html:Spring is here! Join us at Mulberry Market for a fun morning of creating your own succulent plant to take home! We provide a variety of beautiful succulents and cacti of many varieties and colors. There will also be a selection pots\, plants and other fun containers\; or you can bring your own! Have you ever seen a succulent planted in a teacup? Get creative! This class will also be the perfect time to bring your own seeds\, propagated clippings or starts to swap! You can also shop our store and visit our greenhouse before or after the class! April 11th\, 2025 - 6pm-7pm Class includes: 1 hour of instruction and fun\, your choice of 2-3 succulents or cacti and a pot of your choosing. Bring a friend\, this class is sure to be lots of fun!
LOCATION:Mulberry Market 301 S. Collins St. #102 Plant City FL 33563
UID:e.2462.16905
SEQUENCE:3
DTSTAMP:20260419T181124Z
URL:https://business.plantcity.org/events/details/create-your-own-succulent-workshop-seed-swap-16905
END:VEVENT

END:VCALENDAR
