BEGIN:VCALENDAR
VERSION:2.0
PRODID:-//ChamberMaster//Event Calendar 2.0//EN
METHOD:PUBLISH
X-PUBLISHED-TTL:P3D
REFRESH-INTERVAL:P3D
CALSCALE:GREGORIAN
BEGIN:VEVENT
DTSTART:20250515T213000Z
DTEND:20250515T223000Z
X-MICROSOFT-CDO-ALLDAYEVENT:FALSE
SUMMARY:Craft Club
DESCRIPTION:Dedicate some time to your creative pursuits and discuss your current project with other Craft Club goers! This is an open-ended BYOC (Bring Your Own Craft) program but if you need some ideas or just want to try something new\, feel free to ask what supplies the library has to offer.
X-ALT-DESC;FMTTYPE=text/html:Dedicate some time to your creative pursuits and discuss your current project with other Craft Club goers! This is an open-ended BYOC (Bring Your Own Craft) program but if you need some ideas or just want to try something new\, feel free to ask what supplies the library has to offer.
LOCATION:Bruton Memorial Library
UID:e.2462.16955
SEQUENCE:3
DTSTAMP:20260419T212234Z
URL:https://business.plantcity.org/events/details/craft-club-16955
END:VEVENT

END:VCALENDAR
