BEGIN:VCALENDAR
VERSION:2.0
PRODID:-//ChamberMaster//Event Calendar 2.0//EN
METHOD:PUBLISH
X-PUBLISHED-TTL:P3D
REFRESH-INTERVAL:P3D
CALSCALE:GREGORIAN
BEGIN:VEVENT
DTSTART:20250228T140000Z
DTEND:20250301T170000Z
X-MICROSOFT-CDO-ALLDAYEVENT:FALSE
SUMMARY:Count on Your Heart: Know Your Numbers!
DESCRIPTION:February is American Heart Month. \n\nJoin Hillsborough County Adult Care in Plant City and Bay Care for important heart-health screenings.\n\n	Blood Pressure\n	Cholesterol\n	Blood Sugar\n	BMI\n	Weight
X-ALT-DESC;FMTTYPE=text/html:February is American Heart Month.&nbsp\;<br />\nJoin Hillsborough County Adult Care in Plant City and Bay Care for important heart-health screenings.\n<ul>\n	<li>Blood Pressure</li>\n	<li>Cholesterol</li>\n	<li>Blood Sugar</li>\n	<li>BMI</li>\n	<li>Weight</li>\n</ul>\n
LOCATION:Plant City Adult Day Care 1205 S. Waller St Plant City\, FL 33566
UID:e.2462.16901
SEQUENCE:3
DTSTAMP:20260419T213318Z
URL:https://business.plantcity.org/events/details/count-on-your-heart-know-your-numbers-16901
END:VEVENT

END:VCALENDAR
