BEGIN:VCALENDAR
VERSION:2.0
PRODID:-//ChamberMaster//Event Calendar 2.0//EN
METHOD:PUBLISH
X-PUBLISHED-TTL:P3D
REFRESH-INTERVAL:P3D
CALSCALE:GREGORIAN
BEGIN:VEVENT
DTSTART:20250617T120000Z
DTEND:20250617T130000Z
X-MICROSOFT-CDO-ALLDAYEVENT:FALSE
SUMMARY:Connect & Grow (Leads Group)
DESCRIPTION:Connect & Grow provides opportunities for its members to connect with other businesses and business leaders within the community. Be ready to share best business practices\, build business relationships\, and generate referrals.\n\nThis leads group meets bi-monthly on the 1st and 3rd Tuesday of the month at 8:00am and is limited to two members from each business category. If you are interested in joining Connect & Grow\, contact Jessica Cummins at (813) 754-3707 to check for openings.
X-ALT-DESC;FMTTYPE=text/html:<p style="box-sizing: inherit\; margin: 0px 0px 2rem\; font-size: 18px\; padding: 0px\; border: 0px\; font-variant-numeric: inherit\; font-variant-east-asian: inherit\; font-stretch: inherit\; line-height: 24px\; font-family: &quot\;Gotham A&quot\;\, &quot\;Gotham B&quot\;\; vertical-align: baseline\;"><span style="font-size: 16px\;"><span style="color: rgb(36\, 36\, 36)\;"><span style="font-family:montserrat\;">Connect &amp\; Grow provides opportunities for its members to connect with other businesses and business leaders within the community. Be ready to share best business practices\, build business relationships\, and generate referrals.</span></span><br />\n<span style="box-sizing: border-box\;"><span style="font-family: montserrat\;"><font color="#242424">This leads group meets bi-monthly on the 1st and 3rd Tuesday of the month at 8:00am and is limited to two&nbsp\;members from each business category. If you are interested in joining Connect &amp\; Grow\, contact&nbsp\;</font><a href="mailto:jerilyn@plantcity.org?subject=Connect%20%26%20Grow%20leads%20group%20interest!" style="color: rgb(36\, 36\, 36)\; box-sizing: border-box\; text-decoration-line: none\; overflow-wrap: break-word\;"><span style="color:#799E29\;"><span style="box-sizing:border-box\;">J</span></span></a><font color="#799e29">essica Cummins&nbsp\;</font><font color="#242424">at (813) 754-3707 to check for openings.</font></span></span></span></p>\n
LOCATION:Onpoint CoWork Solutions 1805 James L. Redman Parkway Plant City\, Florida 33563
UID:e.2462.13267
SEQUENCE:3
DTSTAMP:20260419T225519Z
URL:https://business.plantcity.org/events/details/connect-grow-leads-group-06-17-2025-13267
END:VEVENT

END:VCALENDAR
