BEGIN:VCALENDAR
VERSION:2.0
PRODID:-//ChamberMaster//Event Calendar 2.0//EN
METHOD:PUBLISH
X-PUBLISHED-TTL:P3D
REFRESH-INTERVAL:P3D
CALSCALE:GREGORIAN
BEGIN:VEVENT
DTSTART:20250308T150000Z
DTEND:20250308T200000Z
X-MICROSOFT-CDO-ALLDAYEVENT:FALSE
SUMMARY:Community Fair
DESCRIPTION:Join us for free food\, games\, and health information!!! Health agencies of Hillsborough County Rib cook off & free food Bounce houses Face painting Games for all ages and much more! All are welcome!!!
X-ALT-DESC;FMTTYPE=text/html:Join us for free food\, games\, and health information!!! Health agencies of Hillsborough County Rib cook off &amp\; free food Bounce houses Face painting Games for all ages and much more! All are welcome!!!
LOCATION:Abundant Life Church 410 SW ILLEY ROAD \, PLANT C ITY \, FL 33567
UID:e.2462.16897
SEQUENCE:3
DTSTAMP:20260419T212148Z
URL:https://business.plantcity.org/events/details/community-fair-16897
END:VEVENT

END:VCALENDAR
