BEGIN:VCALENDAR
VERSION:2.0
PRODID:-//ChamberMaster//Event Calendar 2.0//EN
METHOD:PUBLISH
X-PUBLISHED-TTL:P3D
REFRESH-INTERVAL:P3D
CALSCALE:GREGORIAN
BEGIN:VEVENT
DTSTART:20260428T220000Z
DTEND:20260428T233000Z
X-MICROSOFT-CDO-ALLDAYEVENT:FALSE
SUMMARY:Community Conversation with School Board Member Patti Rendon
DESCRIPTION:You're invited to a Community Conversation. \n\n \n\nFamilies and community members are invited to connect directly with School Board Member Patti Rendon. We want to create a space to listen\, share\, and support one another.\n\n \n\nJoin us for an open conversation with families and community members.\n\n \n\nPlant City High School\n\nTuesday\, April 28 6:00 PM\n\n \n\nThis is a chance to ask questions\, share your thoughts\, and connect as a community. Your voice is important\, and we are here to listen.
X-ALT-DESC;FMTTYPE=text/html:<p dir="ltr" style="box-sizing: content-box\; border: 0px\; font-width: inherit\; font-size: 14px\; line-height: normal\; font-family: Roboto\, Helvetica\, Arial\, sans-serif\; font-size-adjust: inherit\; font-kerning: inherit\; font-variant-alternates: inherit\; font-variant-ligatures: inherit\; font-variant-numeric: inherit\; font-variant-east-asian: inherit\; font-variant-position: inherit\; font-feature-settings: inherit\; font-optical-sizing: inherit\; font-variation-settings: inherit\; margin: 0px\; padding: 0px\; vertical-align: baseline\; caret-color: rgb(36\, 36\, 36)\; color: rgb(36\, 36\, 36)\; -webkit-tap-highlight-color: rgba(0\, 0\, 0\, 0)\; -webkit-text-size-adjust: 100%\;"><span style="box-sizing: content-box\; border: 0px\; font-style: inherit\; font-variant-caps: inherit\; font-width: inherit\; font-size: 12pt\; line-height: inherit\; font-family: Aptos\, Aptos_MSFontService\, -apple-system\, Roboto\, Arial\, Helvetica\, sans-serif\; font-size-adjust: inherit\; font-kerning: inherit\; font-variant-alternates: inherit\; font-variant-ligatures: inherit\; font-variant-numeric: inherit\; font-variant-east-asian: inherit\; font-variant-position: inherit\; font-feature-settings: inherit\; font-optical-sizing: inherit\; font-variation-settings: inherit\; margin: 0px\; padding: 0px\; vertical-align: baseline\; color: rgb(0\, 0\, 0)\;">You&#39\;re invited to a Community Conversation.&nbsp\;</span></p>\n\n<p style="box-sizing: content-box\; border: 0px\; font-width: inherit\; font-size: 14px\; line-height: normal\; font-family: Roboto\, Helvetica\, Arial\, sans-serif\; font-size-adjust: inherit\; font-kerning: inherit\; font-variant-alternates: inherit\; font-variant-ligatures: inherit\; font-variant-numeric: inherit\; font-variant-east-asian: inherit\; font-variant-position: inherit\; font-feature-settings: inherit\; font-optical-sizing: inherit\; font-variation-settings: inherit\; margin: 0px\; padding: 0px\; vertical-align: baseline\; caret-color: rgb(36\, 36\, 36)\; color: rgb(36\, 36\, 36)\; -webkit-tap-highlight-color: rgba(0\, 0\, 0\, 0)\; -webkit-text-size-adjust: 100%\; min-height: 20.3px\;">&nbsp\;</p>\n\n<p style="box-sizing: content-box\; border: 0px\; font-width: inherit\; font-size: 14px\; line-height: normal\; font-family: Roboto\, Helvetica\, Arial\, sans-serif\; font-size-adjust: inherit\; font-kerning: inherit\; font-variant-alternates: inherit\; font-variant-ligatures: inherit\; font-variant-numeric: inherit\; font-variant-east-asian: inherit\; font-variant-position: inherit\; font-feature-settings: inherit\; font-optical-sizing: inherit\; font-variation-settings: inherit\; margin: 0px\; padding: 0px\; vertical-align: baseline\; caret-color: rgb(36\, 36\, 36)\; color: rgb(36\, 36\, 36)\; -webkit-tap-highlight-color: rgba(0\, 0\, 0\, 0)\; -webkit-text-size-adjust: 100%\;"><span style="box-sizing: content-box\; border: 0px\; font-style: inherit\; font-variant-caps: inherit\; font-width: inherit\; font-size: 12pt\; line-height: inherit\; font-family: Aptos\, Aptos_MSFontService\, -apple-system\, Roboto\, Arial\, Helvetica\, sans-serif\; font-size-adjust: inherit\; font-kerning: inherit\; font-variant-alternates: inherit\; font-variant-ligatures: inherit\; font-variant-numeric: inherit\; font-variant-east-asian: inherit\; font-variant-position: inherit\; font-feature-settings: inherit\; font-optical-sizing: inherit\; font-variation-settings: inherit\; margin: 0px\; padding: 0px\; vertical-align: baseline\; color: rgb(0\, 0\, 0)\;">Families and community members are invited to connect directly with School Board Member Patti Rendon. We want to create a space to listen\, share\, and support one another.</span></p>\n\n<p style="box-sizing: content-box\; border: 0px\; font-width: inherit\; font-size: 14px\; line-height: normal\; font-family: Roboto\, Helvetica\, Arial\, sans-serif\; font-size-adjust: inherit\; font-kerning: inherit\; font-variant-alternates: inherit\; font-variant-ligatures: inherit\; font-variant-numeric: inherit\; font-variant-east-asian: inherit\; font-variant-position: inherit\; font-feature-settings: inherit\; font-optical-sizing: inherit\; font-variation-settings: inherit\; margin: 0px\; padding: 0px\; vertical-align: baseline\; caret-color: rgb(36\, 36\, 36)\; color: rgb(36\, 36\, 36)\; -webkit-tap-highlight-color: rgba(0\, 0\, 0\, 0)\; -webkit-text-size-adjust: 100%\; min-height: 20.3px\;">&nbsp\;</p>\n\n<p style="box-sizing: content-box\; border: 0px\; font-width: inherit\; font-size: 14px\; line-height: normal\; font-family: Roboto\, Helvetica\, Arial\, sans-serif\; font-size-adjust: inherit\; font-kerning: inherit\; font-variant-alternates: inherit\; font-variant-ligatures: inherit\; font-variant-numeric: inherit\; font-variant-east-asian: inherit\; font-variant-position: inherit\; font-feature-settings: inherit\; font-optical-sizing: inherit\; font-variation-settings: inherit\; margin: 0px\; padding: 0px\; vertical-align: baseline\; caret-color: rgb(36\, 36\, 36)\; color: rgb(36\, 36\, 36)\; -webkit-tap-highlight-color: rgba(0\, 0\, 0\, 0)\; -webkit-text-size-adjust: 100%\;"><span style="box-sizing: content-box\; border: 0px\; font-style: inherit\; font-variant-caps: inherit\; font-width: inherit\; font-size: 12pt\; line-height: inherit\; font-family: Aptos\, Aptos_MSFontService\, -apple-system\, Roboto\, Arial\, Helvetica\, sans-serif\; font-size-adjust: inherit\; font-kerning: inherit\; font-variant-alternates: inherit\; font-variant-ligatures: inherit\; font-variant-numeric: inherit\; font-variant-east-asian: inherit\; font-variant-position: inherit\; font-feature-settings: inherit\; font-optical-sizing: inherit\; font-variation-settings: inherit\; margin: 0px\; padding: 0px\; vertical-align: baseline\; color: rgb(0\, 0\, 0)\;">Join us for an open conversation with families and community members.</span></p>\n\n<p style="box-sizing: content-box\; border: 0px\; font-width: inherit\; font-size: 14px\; line-height: normal\; font-family: Roboto\, Helvetica\, Arial\, sans-serif\; font-size-adjust: inherit\; font-kerning: inherit\; font-variant-alternates: inherit\; font-variant-ligatures: inherit\; font-variant-numeric: inherit\; font-variant-east-asian: inherit\; font-variant-position: inherit\; font-feature-settings: inherit\; font-optical-sizing: inherit\; font-variation-settings: inherit\; margin: 0px\; padding: 0px\; vertical-align: baseline\; caret-color: rgb(36\, 36\, 36)\; color: rgb(36\, 36\, 36)\; -webkit-tap-highlight-color: rgba(0\, 0\, 0\, 0)\; -webkit-text-size-adjust: 100%\; min-height: 20.3px\;">&nbsp\;</p>\n\n<p style="box-sizing: content-box\; border: 0px\; font-width: inherit\; font-size: 14px\; line-height: normal\; font-family: Roboto\, Helvetica\, Arial\, sans-serif\; font-size-adjust: inherit\; font-kerning: inherit\; font-variant-alternates: inherit\; font-variant-ligatures: inherit\; font-variant-numeric: inherit\; font-variant-east-asian: inherit\; font-variant-position: inherit\; font-feature-settings: inherit\; font-optical-sizing: inherit\; font-variation-settings: inherit\; margin: 0px\; padding: 0px\; vertical-align: baseline\; caret-color: rgb(36\, 36\, 36)\; color: rgb(36\, 36\, 36)\; -webkit-tap-highlight-color: rgba(0\, 0\, 0\, 0)\; -webkit-text-size-adjust: 100%\;"><span style="box-sizing: content-box\; border: 0px\; font-style: inherit\; font-variant-caps: inherit\; font-width: inherit\; font-size: 12pt\; line-height: inherit\; font-family: Aptos\, Aptos_MSFontService\, -apple-system\, Roboto\, Arial\, Helvetica\, sans-serif\; font-size-adjust: inherit\; font-kerning: inherit\; font-variant-alternates: inherit\; font-variant-ligatures: inherit\; font-variant-numeric: inherit\; font-variant-east-asian: inherit\; font-variant-position: inherit\; font-feature-settings: inherit\; font-optical-sizing: inherit\; font-variation-settings: inherit\; margin: 0px\; padding: 0px\; vertical-align: baseline\; color: rgb(0\, 0\, 0)\;">Plant City High School</span></p>\n\n<p style="box-sizing: content-box\; border: 0px\; font-width: inherit\; font-size: 14px\; line-height: normal\; font-family: Roboto\, Helvetica\, Arial\, sans-serif\; font-size-adjust: inherit\; font-kerning: inherit\; font-variant-alternates: inherit\; font-variant-ligatures: inherit\; font-variant-numeric: inherit\; font-variant-east-asian: inherit\; font-variant-position: inherit\; font-feature-settings: inherit\; font-optical-sizing: inherit\; font-variation-settings: inherit\; margin: 0px\; padding: 0px\; vertical-align: baseline\; caret-color: rgb(36\, 36\, 36)\; color: rgb(36\, 36\, 36)\; -webkit-tap-highlight-color: rgba(0\, 0\, 0\, 0)\; -webkit-text-size-adjust: 100%\;"><span style="box-sizing: content-box\; border: 0px\; font-style: inherit\; font-variant-caps: inherit\; font-width: inherit\; font-size: 12pt\; line-height: inherit\; font-family: Aptos\, Aptos_MSFontService\, -apple-system\, Roboto\, Arial\, Helvetica\, sans-serif\; font-size-adjust: inherit\; font-kerning: inherit\; font-variant-alternates: inherit\; font-variant-ligatures: inherit\; font-variant-numeric: inherit\; font-variant-east-asian: inherit\; font-variant-position: inherit\; font-feature-settings: inherit\; font-optical-sizing: inherit\; font-variation-settings: inherit\; margin: 0px\; padding: 0px\; vertical-align: baseline\; color: rgb(0\, 0\, 0)\;">Tuesday\, April 28 6:00 PM</span></p>\n\n<p style="box-sizing: content-box\; border: 0px\; font-width: inherit\; font-size: 14px\; line-height: normal\; font-family: Roboto\, Helvetica\, Arial\, sans-serif\; font-size-adjust: inherit\; font-kerning: inherit\; font-variant-alternates: inherit\; font-variant-ligatures: inherit\; font-variant-numeric: inherit\; font-variant-east-asian: inherit\; font-variant-position: inherit\; font-feature-settings: inherit\; font-optical-sizing: inherit\; font-variation-settings: inherit\; margin: 0px\; padding: 0px\; vertical-align: baseline\; caret-color: rgb(36\, 36\, 36)\; color: rgb(36\, 36\, 36)\; -webkit-tap-highlight-color: rgba(0\, 0\, 0\, 0)\; -webkit-text-size-adjust: 100%\; min-height: 20.3px\;">&nbsp\;</p>\n\n<p style="box-sizing: content-box\; border: 0px\; font-width: inherit\; font-size: 14px\; line-height: normal\; font-family: Roboto\, Helvetica\, Arial\, sans-serif\; font-size-adjust: inherit\; font-kerning: inherit\; font-variant-alternates: inherit\; font-variant-ligatures: inherit\; font-variant-numeric: inherit\; font-variant-east-asian: inherit\; font-variant-position: inherit\; font-feature-settings: inherit\; font-optical-sizing: inherit\; font-variation-settings: inherit\; margin: 0px\; padding: 0px\; vertical-align: baseline\; caret-color: rgb(36\, 36\, 36)\; color: rgb(36\, 36\, 36)\; -webkit-tap-highlight-color: rgba(0\, 0\, 0\, 0)\; -webkit-text-size-adjust: 100%\;"><span style="box-sizing: content-box\; border: 0px\; font-style: inherit\; font-variant-caps: inherit\; font-width: inherit\; font-size: 12pt\; line-height: inherit\; font-family: Aptos\, Aptos_MSFontService\, -apple-system\, Roboto\, Arial\, Helvetica\, sans-serif\; font-size-adjust: inherit\; font-kerning: inherit\; font-variant-alternates: inherit\; font-variant-ligatures: inherit\; font-variant-numeric: inherit\; font-variant-east-asian: inherit\; font-variant-position: inherit\; font-feature-settings: inherit\; font-optical-sizing: inherit\; font-variation-settings: inherit\; margin: 0px\; padding: 0px\; vertical-align: baseline\; color: rgb(0\, 0\, 0)\;">This is a chance to ask questions\, share your thoughts\, and connect as a community. Your voice is important\, and we are here to listen.</span></p>\n
LOCATION:Plant City High School 1 Raider Pl\, Plant City\, FL 33563
UID:e.2462.18090
SEQUENCE:3
DTSTAMP:20260425T024555Z
URL:https://business.plantcity.org/events/details/community-conversation-with-school-board-member-patti-rendon-18090
END:VEVENT

END:VCALENDAR
