BEGIN:VCALENDAR
VERSION:2.0
PRODID:-//ChamberMaster//Event Calendar 2.0//EN
METHOD:PUBLISH
X-PUBLISHED-TTL:P3D
REFRESH-INTERVAL:P3D
CALSCALE:GREGORIAN
BEGIN:VEVENT
DTSTART:20250919T210000Z
DTEND:20250920T010000Z
X-MICROSOFT-CDO-ALLDAYEVENT:FALSE
SUMMARY:Comedy to the Rescue
DESCRIPTION:Pre Show Social: 5:00   7:00?PM\, free Mingle Hour with food trucks\, a cash bar\, adoptions\, sponsor booths\, and raffles. Comedy Performance: Ticketed show starts at 7:30?PM featuring a talented lineup of comedians with headliner\, Clay Foley\, to raise funds and awareness for Paws Plus Veterinary's mission.
X-ALT-DESC;FMTTYPE=text/html:Pre Show Social: 5:00 &ndash\; 7:00?PM\, free Mingle Hour with food trucks\, a cash bar\, adoptions\, sponsor booths\, and raffles. Comedy Performance: Ticketed show starts at 7:30?PM featuring a talented lineup of comedians with headliner\, Clay Foley\, to raise funds and awareness for Paws Plus Veterinary&rsquo\;s mission.
LOCATION:
UID:e.2462.17502
SEQUENCE:3
DTSTAMP:20260424T225224Z
URL:https://business.plantcity.org/events/details/comedy-to-the-rescue-17502
END:VEVENT

END:VCALENDAR
