BEGIN:VCALENDAR
VERSION:2.0
PRODID:-//ChamberMaster//Event Calendar 2.0//EN
METHOD:PUBLISH
X-PUBLISHED-TTL:P3D
REFRESH-INTERVAL:P3D
CALSCALE:GREGORIAN
BEGIN:VEVENT
DTSTART:20250122T210000Z
DTEND:20250122T220000Z
X-MICROSOFT-CDO-ALLDAYEVENT:FALSE
SUMMARY:Color Café
DESCRIPTION:Come unwind & color with us outside the lines (or in!) with some tea\, music\, and like-minded color enthusiasts!! All coloring levels welcome!
X-ALT-DESC;FMTTYPE=text/html:Come unwind &amp\; color with us outside the lines (or in!) with some tea\, music\, and like-minded color enthusiasts!! All coloring levels welcome!
LOCATION:Bruton Memorial Library | Moody Community Meeting Room
UID:e.2462.16819
SEQUENCE:3
DTSTAMP:20260420T001447Z
URL:https://business.plantcity.org/events/details/color-caf&#233;-01-22-2025-16819
END:VEVENT

END:VCALENDAR
