BEGIN:VCALENDAR
VERSION:2.0
PRODID:-//ChamberMaster//Event Calendar 2.0//EN
METHOD:PUBLISH
X-PUBLISHED-TTL:P3D
REFRESH-INTERVAL:P3D
CALSCALE:GREGORIAN
BEGIN:VEVENT
DTSTART:20250215T160000Z
DTEND:20250215T190000Z
X-MICROSOFT-CDO-ALLDAYEVENT:FALSE
SUMMARY:Cigar Purse Making Class - with Mary Dorsett
DESCRIPTION:Are you interested in discovering how to create your very own unique cigar purse? Unlock your creative potential and add a touch of personal flair with this fun and fashionable accessory project. Cigar purses are not only stylish but also a fantastic way to repurpose materials!\n\nCost: $50\n\n(includes: all materials for one cigar purse\, drink and light snacks!
X-ALT-DESC;FMTTYPE=text/html:Are you interested in discovering how to create your very own unique cigar purse? Unlock your creative potential and add a touch of personal flair with this fun and fashionable accessory project. Cigar purses are not only stylish but also a fantastic way to repurpose materials!<br />\nCost: $50<br />\n(includes: all materials for one cigar purse\, drink and light snacks!
LOCATION:Plant City History & Photo Archives Class Size: Limited to 25 participants
UID:e.2462.16862
SEQUENCE:3
DTSTAMP:20260419T225509Z
URL:https://business.plantcity.org/events/details/cigar-purse-making-class-with-mary-dorsett-16862
END:VEVENT

END:VCALENDAR
