BEGIN:VCALENDAR
VERSION:2.0
PRODID:-//ChamberMaster//Event Calendar 2.0//EN
METHOD:PUBLISH
X-PUBLISHED-TTL:P3D
REFRESH-INTERVAL:P3D
CALSCALE:GREGORIAN
BEGIN:VEVENT
DTSTART:20250518T133000Z
DTEND:20250518T150000Z
X-MICROSOFT-CDO-ALLDAYEVENT:FALSE
SUMMARY:Church Service
DESCRIPTION:Join us for service from 9:30 - 11:00am Children service available
X-ALT-DESC;FMTTYPE=text/html:Join us for service from 9:30 - 11:00am Children service available
LOCATION:410 Swilley Road. Plant City\, FL. 33567
UID:e.2462.16984
SEQUENCE:3
DTSTAMP:20260419T212235Z
URL:https://business.plantcity.org/events/details/church-service-16984
END:VEVENT

END:VCALENDAR
