BEGIN:VCALENDAR
VERSION:2.0
PRODID:-//ChamberMaster//Event Calendar 2.0//EN
METHOD:PUBLISH
X-PUBLISHED-TTL:P3D
REFRESH-INTERVAL:P3D
CALSCALE:GREGORIAN
BEGIN:VEVENT
DTSTART:20221208T163000Z
DTEND:20221208T180000Z
X-MICROSOFT-CDO-ALLDAYEVENT:FALSE
SUMMARY:Chamber Networking Lunch - December
DESCRIPTION:Join us as we host Networking Lunch on December 8th at 11:30am!\n\nOur guest speaker this month will be David Burnett\, Chief of Plant City Fire Rescue!\n\nRegister here: https://www.plantcity.org/events/details/chamber-networking-lunch-december-13003
X-ALT-DESC;FMTTYPE=text/html:&nbsp\;\n<div class="xdj266r x11i5rnm xat24cr x1mh8g0r x1vvkbs" color:="" font-size:="" style="margin: 0px\; overflow-wrap: break-word\;">Join us as we host Networking Lunch on December 8th at 11:30am!</div>\n\n<div class="x11i5rnm xat24cr x1mh8g0r x1vvkbs xtlvy1s" color:="" font-size:="" style="margin: 0.5em 0px 0px\; overflow-wrap: break-word\;">Our guest speaker this month will be David Burnett\, Chief of Plant City Fire Rescue!</div>\n\n<div class="x11i5rnm xat24cr x1mh8g0r x1vvkbs xtlvy1s" color:="" font-size:="" style="margin: 0.5em 0px 0px\; overflow-wrap: break-word\;">Register here:&nbsp\;https://www.plantcity.org/events/details/chamber-networking-lunch-december-13003</div>\n
LOCATION:Florida Strawberry Festival Grounds Arthur Boring Civic Center 2406 W. Reynolds Street Plant City\, FL 33563
UID:e.2462.13003
SEQUENCE:3
DTSTAMP:20260424T160750Z
URL:https://business.plantcity.org/events/details/chamber-networking-lunch-december-13003
END:VEVENT

END:VCALENDAR
