BEGIN:VCALENDAR
VERSION:2.0
PRODID:-//ChamberMaster//Event Calendar 2.0//EN
METHOD:PUBLISH
X-PUBLISHED-TTL:P3D
REFRESH-INTERVAL:P3D
CALSCALE:GREGORIAN
BEGIN:VEVENT
DTSTART:20241212T163000Z
DTEND:20241212T180000Z
X-MICROSOFT-CDO-ALLDAYEVENT:FALSE
SUMMARY:Chamber Networking Lunch
DESCRIPTION:
X-ALT-DESC;FMTTYPE=text/html:
LOCATION:Strawberry Festival Grounds Arthur Boring Civic Center 2406 W. Reynolds St. Plant City. FL 33563 Complimentary parking is available in the parking lot across the street from the fairgrounds.
UID:e.2462.15054
SEQUENCE:3
DTSTAMP:20260420T014529Z
URL:https://business.plantcity.org/events/details/chamber-networking-lunch-12-12-2024-15054
END:VEVENT

END:VCALENDAR
