BEGIN:VCALENDAR
VERSION:2.0
PRODID:-//ChamberMaster//Event Calendar 2.0//EN
METHOD:PUBLISH
X-PUBLISHED-TTL:P3D
REFRESH-INTERVAL:P3D
CALSCALE:GREGORIAN
BEGIN:VEVENT
DTSTART:20250612T153000Z
DTEND:20250612T170000Z
X-MICROSOFT-CDO-ALLDAYEVENT:FALSE
SUMMARY:Chamber 201 - A hands-on training!
DESCRIPTION:Join us for a hands-on training session designed to help you maximize your Chamber benefits using the Membership Information Center.
X-ALT-DESC;FMTTYPE=text/html:Join us for a hands-on training session designed to help you maximize your Chamber benefits using the Membership Information Center.&nbsp\;
LOCATION:Onpoint CoWork Solutions 1805 James L. Redman Parkway
UID:e.2462.16982
SEQUENCE:3
DTSTAMP:20260419T225450Z
URL:https://business.plantcity.org/events/details/chamber-201-a-hands-on-training-16982
END:VEVENT

END:VCALENDAR
