BEGIN:VCALENDAR
VERSION:2.0
PRODID:-//ChamberMaster//Event Calendar 2.0//EN
METHOD:PUBLISH
X-PUBLISHED-TTL:P3D
REFRESH-INTERVAL:P3D
CALSCALE:GREGORIAN
BEGIN:VEVENT
DTSTART:20250127T220000Z
DTEND:20250127T230000Z
X-MICROSOFT-CDO-ALLDAYEVENT:FALSE
SUMMARY:Cat-ch Your Breath
DESCRIPTION:Take a break from reading\, writing\, and studying. Cat-ch your breath with a little love and cuddle time with an adoptable cat from Raining Cats and Dogs Shelter! For ages 8 and up. Limited to the first 12 participants. Walk-ins may be accepted\, but registration is recommended.
X-ALT-DESC;FMTTYPE=text/html:Take a break from reading\, writing\, and studying. Cat-ch your breath with a little love and cuddle time with an adoptable cat from Raining Cats and Dogs Shelter! For ages 8 and up. Limited to the first 12 participants. Walk-ins may be accepted\, but registration is recommended.
LOCATION:Bruton Memorial Library
UID:e.2462.16821
SEQUENCE:3
DTSTAMP:20260420T014426Z
URL:https://business.plantcity.org/events/details/cat-ch-your-breath-16821
END:VEVENT

END:VCALENDAR
