BEGIN:VCALENDAR
VERSION:2.0
PRODID:-//ChamberMaster//Event Calendar 2.0//EN
METHOD:PUBLISH
X-PUBLISHED-TTL:P3D
REFRESH-INTERVAL:P3D
CALSCALE:GREGORIAN
BEGIN:VEVENT
DTSTART:20250216T130000Z
DTEND:20250216T150000Z
X-MICROSOFT-CDO-ALLDAYEVENT:FALSE
SUMMARY:Cars & Coffee
DESCRIPTION:
X-ALT-DESC;FMTTYPE=text/html:
LOCATION:Your CBD Store 2909 James L Redman Pkwy Plant City FL 33563
UID:e.2462.16873
SEQUENCE:3
DTSTAMP:20260419T225457Z
URL:https://business.plantcity.org/events/details/cars-coffee-16873
END:VEVENT

END:VCALENDAR
