BEGIN:VCALENDAR
VERSION:2.0
PRODID:-//ChamberMaster//Event Calendar 2.0//EN
METHOD:PUBLISH
X-PUBLISHED-TTL:P3D
REFRESH-INTERVAL:P3D
CALSCALE:GREGORIAN
BEGIN:VEVENT
DTSTART:20250129T150000Z
DTEND:20250129T180000Z
X-MICROSOFT-CDO-ALLDAYEVENT:FALSE
SUMMARY:CareerSource Hillsborough Pinellas Job Fair
DESCRIPTION:CareerSource Hillsborough Pinellas Job Fair \n\nDate: Wednesday\, January 29\, 2025\n\nTime: 10:00 am to 1:00 pm\n\nLocation: Norman McLeod American Legion Post 26\n\nAddress: 2207 W Baker St\, Plant City\, FL 33563\n\n \n\nThis event presents a unique opportunity for your members to connect with a diverse pool of talented job seekers\, ranging from recent graduates to experienced professionals! \n\n \n\nParticipation for this job fair is at no cost but registration is required. All participating employers must be registered on www.employflorida.com and have open positions available. Space is limited and will be assigned on a first-come\, first- serve basis. So\, if you are aware of businesses that are hiring\, please share this information. We will send employers an email confirming participation and verifying their registration
X-ALT-DESC;FMTTYPE=text/html:<strong><span style="font-family:arial\,sans-serif\;">CareerSource Hillsborough Pinellas Job Fair </span></strong><br />\n<strong><span style="font-family:arial\,sans-serif\;">Date:</span></strong><span style="font-family:arial\,sans-serif\;"> Wednesday\, January 29\, 2025</span><br />\n<strong><span style="font-family:arial\,sans-serif\;">Time:</span></strong><span style="font-family:arial\,sans-serif\;"> 10:00 am to 1:00 pm</span><br />\n<strong><span style="font-family:arial\,sans-serif\;">Location:</span></strong><span style="font-family:arial\,sans-serif\;"> Norman McLeod American Legion Post 26</span><br />\n<strong><span style="font-family:arial\,sans-serif\;">Address:</span></strong><span style="font-family:arial\,sans-serif\;"> 2207 W Baker St\, Plant City\, FL 33563</span><br />\n&nbsp\;<br />\n<span style="font-family:arial\,sans-serif\;">This event presents a unique opportunity for your members to connect with a diverse pool of talented job seekers\, ranging from recent graduates to experienced professionals! </span><br />\n&nbsp\;<br />\n<span style="font-family:arial\,sans-serif\;"><span style="font-size:11.0pt\;">Participation for this job fair is at no cost but registration is required.&nbsp\;All participating employers must be registered on <a href="http://www.employflorida.com">www.employflorida.com</a> and have open positions available. Space is limited and will be assigned on a first-come\, first- serve basis. So\, if you are aware of businesses that are hiring\, please share this information. We will send employers an email confirming participation and verifying their registration</span></span>
LOCATION:
UID:e.2462.16859
SEQUENCE:3
DTSTAMP:20260420T001617Z
URL:https://business.plantcity.org/events/details/careersource-hillsborough-pinellas-job-fair-16859
END:VEVENT

END:VCALENDAR
