BEGIN:VCALENDAR
VERSION:2.0
PRODID:-//ChamberMaster//Event Calendar 2.0//EN
METHOD:PUBLISH
X-PUBLISHED-TTL:P3D
REFRESH-INTERVAL:P3D
CALSCALE:GREGORIAN
BEGIN:VEVENT
DTSTART:20260324T210000Z
DTEND:20260324T230000Z
X-MICROSOFT-CDO-ALLDAYEVENT:FALSE
SUMMARY:Candidate Forum: Local Edition
DESCRIPTION:The Plant City Chamber of Commerce invites our community to attend the Candidate Forum: Local Edition on Tuesday\, March 24th from 5:00 PM   7:00 PM at the Hillsborough College Trinkle Center.\n\n\n\nThis forum will provide residents and members of the business community an opportunity to hear directly from the candidates running for Plant City City Commission. Each candidate will introduce themselves\, answer prepared questions about issues impacting our community\, and share their vision for the future of Plant City.\n\n\n\nThis event is designed to be an informational and educational platform for voters as we approach the upcoming election.\n\n\n\nWe encourage all Plant City residents to attend\, learn more about the candidates\, and stay engaged in the future of our community.\n\n\n\nThe Plant City Chamber of Commerce serves as a neutral convener and does not endorse candidates in municipal elections.\n\n\n\nThis event is free & open to the public.
X-ALT-DESC;FMTTYPE=text/html:The Plant City Chamber of Commerce invites our community to attend the Candidate Forum: Local Edition on Tuesday\, March 24th from 5:00 PM &ndash\; 7:00 PM at the&nbsp\;Hillsborough College Trinkle Center.<br />\n<br />\nThis forum will provide residents and members of the business community an opportunity to hear directly from the candidates running for Plant City City Commission. Each candidate will introduce themselves\, answer prepared questions about issues impacting our community\, and share their vision for the future of Plant City.<br />\n<br />\nThis event is designed to be an informational and educational platform for voters as we approach the upcoming election.<br />\n<br />\nWe encourage all Plant City residents to attend\, learn more about the candidates\, and stay engaged in the future of our community.<br />\n<br />\nThe Plant City Chamber of Commerce serves as a neutral convener and does not endorse candidates in municipal elections.<br />\n<br />\nThis event is free &amp\; open to the public.
LOCATION:Hillsborough College Trinkle Center 1206 N. Park Road Plant City\, FL
UID:e.2462.18035
SEQUENCE:3
DTSTAMP:20260424T133414Z
URL:https://business.plantcity.org/events/details/candidate-forum-local-edition-18035
END:VEVENT

END:VCALENDAR
