BEGIN:VCALENDAR
VERSION:2.0
PRODID:-//ChamberMaster//Event Calendar 2.0//EN
METHOD:PUBLISH
X-PUBLISHED-TTL:P3D
REFRESH-INTERVAL:P3D
CALSCALE:GREGORIAN
BEGIN:VEVENT
DTSTART:20250304T130000Z
DTEND:20250304T140000Z
X-MICROSOFT-CDO-ALLDAYEVENT:FALSE
SUMMARY:CANCELED - Connect & Grow (Leads Group)
DESCRIPTION:Connect & Grow provides opportunities for its members to connect with other businesses and business leaders within the community. Be ready to share best business practices\, build business relationships\, and generate referrals.\n\nThis leads group meets bi-monthly on the 1st and 3rd Tuesday of the month at 8:00am and is limited to two members from each business category. If you are interested in joining Connect & Grow\, contact Jerilyn Rumbarger at (813) 754-3707 ext. 102 to check for openings.
X-ALT-DESC;FMTTYPE=text/html:<p style="box-sizing: inherit\; margin: 0px 0px 2rem\; font-size: 18px\; color: rgb(36\, 36\, 36)\; padding: 0px\; border: 0px\; font-variant-numeric: inherit\; font-variant-east-asian: inherit\; font-stretch: inherit\; line-height: 24px\; font-family: &quot\;Gotham A&quot\;\, &quot\;Gotham B&quot\;\; vertical-align: baseline\;"><span style="color:#242424\;"><span style="font-family:montserrat\;"><span style="font-size:13.5pt\;">Connect &amp\; Grow provides opportunities for its members to connect with other businesses and business leaders within the community. Be ready to share best business practices\, build business relationships\, and generate referrals.</span></span></span><br />\n<span style="box-sizing:border-box\;"><span style="color:#242424\;"><span style="font-family:montserrat\;"><span style="font-size:13.5pt\;">This leads group meets bi-monthly on the 1st and 3rd Tuesday of the month at 8:00am and is limited to two&nbsp\;members from each business category. If you are interested in joining Connect &amp\; Grow\, contact&nbsp\;<a href="mailto:jerilyn@plantcity.org?subject=Connect%20%26%20Grow%20leads%20group%20interest!" style="box-sizing:border-box\;text-decoration-line:none\;"><span style="color:#799E29\;"><span style="box-sizing:border-box\;">Jerilyn Rumbarger</span></span></a>&nbsp\;at (813) 754-3707 ext. 102&nbsp\;to check for openings.</span></span></span></span></p>\n
LOCATION:Canceled
UID:e.2462.16898
SEQUENCE:3
DTSTAMP:20260419T212359Z
URL:https://business.plantcity.org/events/details/canceled-connect-grow-leads-group-16898
END:VEVENT

END:VCALENDAR
