BEGIN:VCALENDAR
VERSION:2.0
PRODID:-//ChamberMaster//Event Calendar 2.0//EN
METHOD:PUBLISH
X-PUBLISHED-TTL:P3D
REFRESH-INTERVAL:P3D
CALSCALE:GREGORIAN
BEGIN:VEVENT
DTSTART:20250217T153000Z
DTEND:20250217T163000Z
X-MICROSOFT-CDO-ALLDAYEVENT:FALSE
SUMMARY:Book Tasting
DESCRIPTION:Join us for this book tasting session! With randomized handpicked books from our collection\, enjoy a cup of coffee (provided) as you read a few pages and discuss your thoughts on the chapters read. Others will let you know if the book they "tasted" is worth the check out too!
X-ALT-DESC;FMTTYPE=text/html:Join us for this book tasting session! With randomized handpicked books from our collection\, enjoy a cup of coffee (provided) as you read a few pages and discuss your thoughts on the chapters read. Others will let you know if the book they &quot\;tasted&quot\; is worth the check out too!
LOCATION:Bruton Memorial Library
UID:e.2462.16826
SEQUENCE:3
DTSTAMP:20260419T225457Z
URL:https://business.plantcity.org/events/details/book-tasting-02-17-2025-16826
END:VEVENT

END:VCALENDAR
