BEGIN:VCALENDAR
VERSION:2.0
PRODID:-//ChamberMaster//Event Calendar 2.0//EN
METHOD:PUBLISH
X-PUBLISHED-TTL:P3D
REFRESH-INTERVAL:P3D
CALSCALE:GREGORIAN
BEGIN:VEVENT
DTSTART:20250315T180000Z
DTEND:20250315T200000Z
X-MICROSOFT-CDO-ALLDAYEVENT:FALSE
SUMMARY:Bluegrass Slow Jam
DESCRIPTION:An open invitation for all Aspiring artists from beginner to early intermediate. It's free to all & focused on bluegrass music. Even if you have never picked up a bluegrass instrument. This is the jam for you! We encourage all seasoned muscians to lead the way. 3rd Saturday every month 2:00 - 4:00 pm An open invitation for all Aspiring artists from beginner to early intermediate. It's free to all & focused on bluegrass music. Even if you have never picked up a bluegrass instrument. This is the jam for you! We encourage all seasoned muscians to lead the way. 3rd Saturday every month 2:00 - 4:00 pm
X-ALT-DESC;FMTTYPE=text/html:An open invitation for all Aspiring artists from beginner to early intermediate. It&rsquo\;s free to all &amp\; focused on bluegrass music. Even if you have never picked up a bluegrass instrument. This is the jam for you! We encourage all seasoned muscians to lead the way. 3rd Saturday every month 2:00 - 4:00 pm An open invitation for all Aspiring artists from beginner to early intermediate. It&rsquo\;s free to all &amp\; focused on bluegrass music. Even if you have never picked up a bluegrass instrument. This is the jam for you! We encourage all seasoned muscians to lead the way. 3rd Saturday every month 2:00 - 4:00 pm
LOCATION:
UID:e.2462.16914
SEQUENCE:3
DTSTAMP:20260419T213107Z
URL:https://business.plantcity.org/events/details/bluegrass-slow-jam-16914
END:VEVENT

END:VCALENDAR
