BEGIN:VCALENDAR
VERSION:2.0
PRODID:-//ChamberMaster//Event Calendar 2.0//EN
METHOD:PUBLISH
X-PUBLISHED-TTL:P3D
REFRESH-INTERVAL:P3D
CALSCALE:GREGORIAN
BEGIN:VEVENT
DTSTART:20221120T000000Z
DTEND:20221120T013000Z
X-MICROSOFT-CDO-ALLDAYEVENT:FALSE
SUMMARY:Bluegrass Night with Southern Express
DESCRIPTION:Join us for an evening of Bluegrass music with Southern Express Bluegrass band. They are a Central Florida band that originated from years of Bluegrass experience.
X-ALT-DESC;FMTTYPE=text/html:Join us for an evening of Bluegrass music with Southern Express Bluegrass band. They are a Central Florida band that originated from years of Bluegrass experience.
LOCATION:Krazy Kup
UID:e.2462.13691
SEQUENCE:3
DTSTAMP:20260422T130755Z
URL:https://business.plantcity.org/events/details/bluegrass-night-with-southern-express-11-19-2022-13691
END:VEVENT

END:VCALENDAR
