BEGIN:VCALENDAR
VERSION:2.0
PRODID:-//ChamberMaster//Event Calendar 2.0//EN
METHOD:PUBLISH
X-PUBLISHED-TTL:P3D
REFRESH-INTERVAL:P3D
CALSCALE:GREGORIAN
BEGIN:VEVENT
DTSTART:20250524T230000Z
DTEND:20250525T003000Z
X-MICROSOFT-CDO-ALLDAYEVENT:FALSE
SUMMARY:Bluegrass Night with Southern Express
DESCRIPTION:Southern Express Bluegrass consists of six extremely talented musicians. These men bring many years of professional experience in bluegrass music to a group dedicated to hard driving\, family entertainment. Since its beginnings in 2005\, Southern Express has enjoyed performing at concerts\, festivals\, fairs\, corporate parties\, and private events throughout the southeastern United States. Set lists include bluegrass\, gospel and country songs ranging from the traditional music of Bill Monroe to the more contemporary sounds of James Taylor and the Beatles. The band members enjoy sharing their faith by bringing bluegrass gospel music to several church services during the year.
X-ALT-DESC;FMTTYPE=text/html:Southern Express Bluegrass consists of six extremely talented musicians. These men bring many years of professional experience in bluegrass music to a group dedicated to hard driving\, family entertainment. Since its beginnings in 2005\, Southern Express has enjoyed performing at concerts\, festivals\, fairs\, corporate parties\, and private events throughout the southeastern United States. Set lists include bluegrass\, gospel and country songs ranging from the traditional music of Bill Monroe to the more contemporary sounds of James Taylor and the Beatles. The band members enjoy sharing their faith by bringing bluegrass gospel music to several church services during the year.
LOCATION:
UID:e.2462.16972
SEQUENCE:3
DTSTAMP:20260419T212423Z
URL:https://business.plantcity.org/events/details/bluegrass-night-with-southern-express-05-24-2025-16972
END:VEVENT

END:VCALENDAR
