BEGIN:VCALENDAR
VERSION:2.0
PRODID:-//ChamberMaster//Event Calendar 2.0//EN
METHOD:PUBLISH
X-PUBLISHED-TTL:P3D
REFRESH-INTERVAL:P3D
CALSCALE:GREGORIAN
BEGIN:VEVENT
DTSTART:20250628T230000Z
DTEND:20250629T003000Z
X-MICROSOFT-CDO-ALLDAYEVENT:FALSE
SUMMARY:Bluegrass Night with Remedy Tree
DESCRIPTION:Remedy Tree is Florida's hard driving modern bluegrass band. Lyric-driven songs\, foot stomping energy and heart warming melodies define Remedy Tree\, a band focused on original music blending bluegrass\, folk\, and old time music with new ideas creating a truly unique modern Americana sensation. They finished second at the national SPIGMA Bluegrasss competition in Nashville\, Tennessee - and this will be their debut album rollout! It's a show you don't want to miss!
X-ALT-DESC;FMTTYPE=text/html:Remedy Tree is Florida&#39\;s hard driving modern bluegrass band. Lyric-driven songs\, foot stomping energy and heart warming melodies define Remedy Tree\, a band focused on original music blending bluegrass\, folk\, and old time music with new ideas creating a truly unique modern Americana sensation. They finished second at the national SPIGMA Bluegrasss competition in Nashville\, Tennessee - and this will be their debut album rollout! It&#39\;s a show you don&#39\;t want to miss!
LOCATION:Krazy Kup
UID:e.2462.16997
SEQUENCE:3
DTSTAMP:20260419T225519Z
URL:https://business.plantcity.org/events/details/bluegrass-night-with-remedy-tree-06-28-2025-16997
END:VEVENT

END:VCALENDAR
