BEGIN:VCALENDAR
VERSION:2.0
PRODID:-//ChamberMaster//Event Calendar 2.0//EN
METHOD:PUBLISH
X-PUBLISHED-TTL:P3D
REFRESH-INTERVAL:P3D
CALSCALE:GREGORIAN
BEGIN:VEVENT
DTSTART:20250223T000000Z
DTEND:20250223T013000Z
X-MICROSOFT-CDO-ALLDAYEVENT:FALSE
SUMMARY:Bluegrass Night with Keith Tew Bluegrass Band
DESCRIPTION:No stranger to our stage\, Keith Tew has performed for many years at Krazy Kup with the Bluegrass Band\, Southern Express. He is a Grammy nominated singer/songwriter who has written songs recorded by many artists including Mountain Heart (It's The Love) Lou Reid & Carolina (I Don't Remember When and I Stood and Watched You Go)\, Ernie Thacker (Momma Prayed and Daddy Plowed)\, Kim Robins (Born To Roam)\, Scottie Sparks (The Old 109).
X-ALT-DESC;FMTTYPE=text/html:No stranger to our stage\, Keith Tew has performed for many years at Krazy Kup with the Bluegrass Band\, Southern Express. He is a Grammy nominated singer/songwriter who has written songs recorded by many artists including Mountain Heart (It&rsquo\;s The Love) Lou Reid &amp\; Carolina (I Don&rsquo\;t Remember When&nbsp\;and&nbsp\;I Stood and Watched You Go)\, Ernie Thacker (Momma Prayed and Daddy Plowed)\, Kim Robins (Born To Roam)\, Scottie Sparks (The Old 109).
LOCATION:Krazy Kup
UID:e.2462.16846
SEQUENCE:3
DTSTAMP:20260419T225520Z
URL:https://business.plantcity.org/events/details/bluegrass-night-with-keith-tew-bluegrass-band-16846
END:VEVENT

END:VCALENDAR
