BEGIN:VCALENDAR
VERSION:2.0
PRODID:-//ChamberMaster//Event Calendar 2.0//EN
METHOD:PUBLISH
X-PUBLISHED-TTL:P3D
REFRESH-INTERVAL:P3D
CALSCALE:GREGORIAN
BEGIN:VEVENT
DTSTART:20251219T000000Z
DTEND:20251219T013000Z
X-MICROSOFT-CDO-ALLDAYEVENT:FALSE
SUMMARY:Bluegrass Night with John Cowan\, Richard Smith and Allen Shadd
DESCRIPTION:An unforgettable evening of bluegrass with a trio of world class pickers and singers in the loft at Krazy Kup! John Cowan is currently the bassist/vocalist for the Doobie Brothers and was also with the Newgrass Revival until they disbanded. Richard Smith is a fingerstyle guitar champion and Allen Shadd is a 3 time flatpicking champion. All of them have performed with some of the greats in music and we are excited to bring them to you in our loft\, where you can experience the music up close and personal.
X-ALT-DESC;FMTTYPE=text/html:An unforgettable evening of bluegrass with a trio of world class pickers and singers in the loft at Krazy Kup! John Cowan is currently the bassist/vocalist for the Doobie Brothers and was also with the Newgrass Revival until they disbanded. Richard Smith is a fingerstyle guitar champion and Allen Shadd is a 3 time flatpicking champion. All of them have performed with some of the greats in music and we are excited to bring them to you in our loft\, where you can experience the music up close and personal.
LOCATION:
UID:e.2462.17708
SEQUENCE:3
DTSTAMP:20260424T183109Z
URL:https://business.plantcity.org/events/details/bluegrass-night-with-john-cowan-richard-smith-and-allen-shadd-17708
END:VEVENT

END:VCALENDAR
