BEGIN:VCALENDAR
VERSION:2.0
PRODID:-//ChamberMaster//Event Calendar 2.0//EN
METHOD:PUBLISH
X-PUBLISHED-TTL:P3D
REFRESH-INTERVAL:P3D
CALSCALE:GREGORIAN
BEGIN:VEVENT
DTSTART:20250403T230000Z
DTEND:20250404T003000Z
X-MICROSOFT-CDO-ALLDAYEVENT:FALSE
SUMMARY:Bluegrass Night with Indigo Roots Band
DESCRIPTION:Indigo Roots Band is comprised of three siblings - Bethany\, Victoria\, and Daniel from the vibrant music scene of Nashville\, Tennessee. The three band members seamlessly blend their musical prowess to create a distinctive sound that can be described as progressive bluegrass\, while at the same time\, honoring traditional bluegrass roots. .
X-ALT-DESC;FMTTYPE=text/html:Indigo Roots Band is comprised of three siblings - Bethany\, Victoria\, and Daniel from the vibrant music scene of Nashville\, Tennessee. The three band members seamlessly blend their musical prowess to create a distinctive sound that can be described as progressive bluegrass\, while at the same time\, honoring traditional bluegrass roots. .
LOCATION:
UID:e.2462.16918
SEQUENCE:3
DTSTAMP:20260419T165756Z
URL:https://business.plantcity.org/events/details/bluegrass-night-with-indigo-roots-band-16918
END:VEVENT

END:VCALENDAR
