BEGIN:VCALENDAR
VERSION:2.0
PRODID:-//ChamberMaster//Event Calendar 2.0//EN
METHOD:PUBLISH
X-PUBLISHED-TTL:P3D
REFRESH-INTERVAL:P3D
CALSCALE:GREGORIAN
BEGIN:VEVENT
DTSTART:20251025T230000Z
DTEND:20251026T003000Z
X-MICROSOFT-CDO-ALLDAYEVENT:FALSE
SUMMARY:Bluegrass Night with Ian Lane & Southern Flavor
DESCRIPTION:Ian Lane and Southern Flavor is a new band on the Florida bluegrass scene. The band is already known for tight harmonies and hard driving entertaining music. Ian Lane who is the 18 year old leader of the band has already played the Grand Ole Opry twice with bluegrass legends Rhonda Vincent and the Rage and has toured with many other Grammy award winning artists. Keith Bass plays banjo with the group and is a 7 time Florida State Banjo Champion and has been playing music around the country his whole life. Brothers Tippen and Alton Padgett play guitar and mandolin for the group and have incredible brother harmonies! Rex Putnam plays bass for the group and is considered one of the best bass players in the state of Florida. You are sure to love the great music and entertainment they bring to the table! Come on out and bring your friends!!!
X-ALT-DESC;FMTTYPE=text/html:Ian Lane and Southern Flavor is a new band on the Florida bluegrass scene. The band is already known for tight harmonies and hard driving entertaining music. Ian Lane who is the 18 year old leader of the band has already played the Grand Ole Opry twice with bluegrass legends Rhonda Vincent and the Rage and has toured with many other Grammy award winning artists. Keith Bass plays banjo with the group and is a 7 time Florida State Banjo Champion and has been playing music around the country his whole life. Brothers Tippen and Alton Padgett play guitar and mandolin for the group and have incredible brother harmonies! Rex Putnam plays bass for the group and is considered one of the best bass players in the state of Florida. You are sure to love the great music and entertainment they bring to the table! Come on out and bring your friends!!!
LOCATION:Krazy Kup
UID:e.2462.17552
SEQUENCE:3
DTSTAMP:20260424T212455Z
URL:https://business.plantcity.org/events/details/bluegrass-night-with-ian-lane-southern-flavor-17552
END:VEVENT

END:VCALENDAR
