BEGIN:VCALENDAR
VERSION:2.0
PRODID:-//ChamberMaster//Event Calendar 2.0//EN
METHOD:PUBLISH
X-PUBLISHED-TTL:P3D
REFRESH-INTERVAL:P3D
CALSCALE:GREGORIAN
BEGIN:VEVENT
DTSTART:20250201T233000Z
DTEND:20250202T013000Z
X-MICROSOFT-CDO-ALLDAYEVENT:FALSE
SUMMARY:Bluegrass Jam
DESCRIPTION:This is an open invitation for local Bluegrass musicians and fans to come to the Krazy Kup loft and JAM\, clap hands\, stomp feet\, and enjoy! We have our Bluegrass JAM the first Saturday of every month!
X-ALT-DESC;FMTTYPE=text/html:This is an open invitation for local Bluegrass musicians and fans to come to the Krazy Kup loft and JAM\, clap hands\, stomp feet\, and enjoy! We have our Bluegrass JAM the first Saturday of every month!
LOCATION:Krazy Kup
UID:e.2462.16847
SEQUENCE:3
DTSTAMP:20260419T225107Z
URL:https://business.plantcity.org/events/details/bluegrass-jam-02-01-2025-16847
END:VEVENT

END:VCALENDAR
