BEGIN:VCALENDAR
VERSION:2.0
PRODID:-//ChamberMaster//Event Calendar 2.0//EN
METHOD:PUBLISH
X-PUBLISHED-TTL:P3D
REFRESH-INTERVAL:P3D
CALSCALE:GREGORIAN
BEGIN:VEVENT
DTSTART:20250103T000000Z
DTEND:20250103T013000Z
X-MICROSOFT-CDO-ALLDAYEVENT:FALSE
SUMMARY:Bluegrass All Star Pickers
DESCRIPTION:Clay Hess is a Grammy-Award winner who played with Ricky Skaggs and has also played with almost every major bluegrass artist - including Mountain Heart\, Sierra Hull\, Ron Block and Tony Rice. He is considered to be one of the elite flat pick guitarists in the world. Jon Garon has played acoustic music for over 60 years in a variety of musical iterations. Jon is a fingerpicking specialist who has appeared with Vassar Clements\, John Denver's band\, and many other national acts. Dr. John Wheat is a 16-time Indiana and Kentucky State Banjo Champion. He has performed with Tony Rice\, Mark Newton and Special Consensus. Zack Nibert is an exceptional up and coming young banjo player from Kentucky. Clay's son Brennan plays solid bass. This is truly a group of all-star pickers!
X-ALT-DESC;FMTTYPE=text/html:Clay Hess is a Grammy-Award winner who played with Ricky Skaggs and has also played with almost every major bluegrass artist - including Mountain Heart\, Sierra Hull\, Ron Block and Tony Rice. He is considered to be one of the elite flat pick guitarists in the world. Jon Garon has played acoustic music for over 60 years in a variety of musical iterations. Jon is a fingerpicking specialist who has appeared with Vassar Clements\, John Denver&rsquo\;s band\, and many other national acts. Dr. John Wheat is a 16-time Indiana and Kentucky State Banjo Champion. He has performed with Tony Rice\, Mark Newton and Special Consensus. Zack Nibert is an exceptional up and coming young banjo player from Kentucky. Clay&rsquo\;s son Brennan plays solid bass. This is truly a group of all-star pickers!
LOCATION:Krazy Kuup
UID:e.2462.16795
SEQUENCE:3
DTSTAMP:20260420T001342Z
URL:https://business.plantcity.org/events/details/bluegrass-all-star-pickers-16795
END:VEVENT

END:VCALENDAR
