BEGIN:VCALENDAR
VERSION:2.0
PRODID:-//ChamberMaster//Event Calendar 2.0//EN
METHOD:PUBLISH
X-PUBLISHED-TTL:P3D
REFRESH-INTERVAL:P3D
CALSCALE:GREGORIAN
BEGIN:VEVENT
DTSTART:20250315T140000Z
DTEND:20250316T160000Z
X-MICROSOFT-CDO-ALLDAYEVENT:FALSE
SUMMARY:Blessing of the Animals
DESCRIPTION:Announcing the return of the "Blessing of the Animals" event to our church! In appreciation for all the positive ways animals impact the members of Tampa's community\, Our Lady of Perpetual Help Catholic Church will host this event on March 15\, 2025\, at 10:00 a.m. in the area between the rectory and Stokes Hall. The focus of the event will be a blessing of our pets for their health and safety.  They are a blessing let's return the favor!  This coincides with the Feast of St Gertrude of Nivelles\, Patron Saint of Animals.\n\nPlease bring your well-behaved pet to this heartwarming ceremony.  We would love to see you all there with your pet leashed or in a carrier! Not only would we love to see you\, we would like you to spread the word to family\, friends and co-workers (all are welcome!) and have them attend as well. \n\nThere is NO fee or charge for attending the Blessing of the Animals\, parking is also free while it lasts across the street from the church. \n\nWhile there is no fee for the event or for parking\, donations are always welcome.  There will be door prizes! And of course\, a raffle.\n\nDog treats\, litter bags\, and kitty treats will be provided to owners\, and water dishes will be placed around the property to be available for our pets who get thirsty. Any pet spiders (or squirrels) are on their own.
X-ALT-DESC;FMTTYPE=text/html:<span style="letter-spacing:-.25pt\;"><span style="color:#26282A\;"><span style="font-family:arial\,sans-serif\;"><span style="font-size:11.0pt\;">Announcing the return of the &ldquo\;Blessing of the Animals&rdquo\; event to our church! In appreciation for all the positive ways animals impact the members of Tampa&rsquo\;s community\, Our Lady of Perpetual Help Catholic Church will host this event on March 15\, 2025\, at 10:00 a.m. in the area between the rectory and Stokes Hall. The focus of the event will be a blessing of our pets for their health and safety.&nbsp\; They are a blessing&hellip\;let&rsquo\;s return the favor!&nbsp\; This coincides with the Feast of St Gertrude of Nivelles\, Patron Saint of Animals.</span></span></span></span><br />\n<span style="letter-spacing:-.25pt\;"><span style="color:#26282A\;"><span style="font-family:arial\,sans-serif\;"><span style="font-size:11.0pt\;">Please bring your well-behaved pet to this heartwarming ceremony.&nbsp\; We would love to see you all there with your pet leashed or in a carrier! Not only would we love to see you\, we would like you to spread the word to family\, friends and co-workers (all are welcome!) and have them attend as well.&nbsp\;</span></span></span></span><br />\n<span style="letter-spacing:-.25pt\;"><span style="color:#26282A\;"><span style="font-family:arial\,sans-serif\;"><span style="font-size:11.0pt\;">There is&nbsp\;<strong><u>NO</u></strong>&nbsp\;<strong><u>fee</u></strong>&nbsp\;or charge for attending the Blessing of the Animals\, parking is also free while it lasts across the street from the church.&nbsp\;</span></span></span></span><br />\n<strong><span style="letter-spacing:-.25pt\;"><span style="color:#26282A\;"><span style="font-family:arial\,sans-serif\;"><span style="font-size:11.0pt\;">While there is no fee for the event or for parking\, donations are always welcome.&nbsp\; There will be door prizes! And of course\, a raffle.</span></span></span></span></strong><br />\n<span style="letter-spacing:-.25pt\;"><span style="color:#26282A\;"><span style="font-family:arial\,sans-serif\;"><span style="font-size:11.0pt\;">Dog treats\, litter bags\, and kitty treats will be provided to owners\, and water dishes will be placed around the property to be available for our pets who get thirsty.&nbsp\;<strong><em>Any pet spiders (or squirrels) are on their own.&nbsp\;</em></strong></span></span></span></span>
LOCATION:Who: Bring your pets! What: For a Blessing of your pet When: March 15\, 2025 at 10 AM Where: Our Lady of Perpetual Help\, 1711 East 11th Avenue\, Tampa\, FL 33605 Why: to return a favor to our pets!
UID:e.2462.16889
SEQUENCE:3
DTSTAMP:20260419T213350Z
URL:https://business.plantcity.org/events/details/blessing-of-the-animals-16889
END:VEVENT

END:VCALENDAR
