BEGIN:VCALENDAR
VERSION:2.0
PRODID:-//ChamberMaster//Event Calendar 2.0//EN
METHOD:PUBLISH
X-PUBLISHED-TTL:P3D
REFRESH-INTERVAL:P3D
CALSCALE:GREGORIAN
BEGIN:VEVENT
DTSTART:20250610T220000Z
DTEND:20250611T000000Z
X-MICROSOFT-CDO-ALLDAYEVENT:FALSE
SUMMARY:Bingo Charity Night
DESCRIPTION:Gather your family\, friends\, and fellow BINGO enthusiasts for\n\nan evening of thrilling fun\, fabulous prizes\, and unforgettable\n\n memories. There will be 50/50 Raffle! Proceeds go to the Alzheimer's Association.
X-ALT-DESC;FMTTYPE=text/html:Gather your family\, friends\, and fellow BINGO enthusiasts for<br />\nan evening of thrilling fun\, fabulous prizes\, and unforgettable<br />\n&nbsp\;memories. There will be 50/50 Raffle! Proceeds go to the Alzheimer&#39\;s Association.
LOCATION:Outback Steakhouse
UID:e.2462.17007
SEQUENCE:3
DTSTAMP:20260419T225508Z
URL:https://business.plantcity.org/events/details/bingo-charity-night-17007
END:VEVENT

END:VCALENDAR
