BEGIN:VCALENDAR
VERSION:2.0
PRODID:-//ChamberMaster//Event Calendar 2.0//EN
METHOD:PUBLISH
X-PUBLISHED-TTL:P3D
REFRESH-INTERVAL:P3D
CALSCALE:GREGORIAN
BEGIN:VEVENT
DTSTART:20250405T120000Z
DTEND:20250406T030000Z
X-MICROSOFT-CDO-ALLDAYEVENT:FALSE
SUMMARY:Berry Bolt 5k
DESCRIPTION:The inaugural Berry Bolt 5K will benefit the United Food Bank of Plant City and the Wish Farms Family Foundation. Following the race\, the blueberry field will be open for the community to u-pick and enjoy family fun!\n\n\n\nWe hope we can count on you to support this year's Wish Farms charity event. We have a wide range of sponsorship opportunities to fit your budget.\n\n\n\n8:00 am: Race Check-In \n\n8:30 am: 5K Race Begins\n\n9:30 am: 1 Mile Walk Begins\n\n10:30 am: Awards Ceremony\n\n11:00 am: Race event concludes\, blueberry u-pick remains open
X-ALT-DESC;FMTTYPE=text/html:<span style="color:#202020\;"><span style="font-family:helvetica\,sans-serif\;"><span style="font-size:12.0pt\;">The inaugural <a href="https://wishfarms.us11.list-manage.com/track/click?u=bdd40cc4da81fbb4f93152dba&amp\;id=88d92ce476&amp\;e=0fab785337" target="_blank"><span style="color:#007C89\;">Berry Bolt 5K</span></a> will benefit the United Food Bank of Plant City and the Wish Farms Family Foundation.&nbsp\;Following the race\, the blueberry field will be open for the community to u-pick and enjoy family fun!<br />\n<br />\nWe hope we can count on you to support this year&rsquo\;s Wish Farms charity event. We have a wide range of sponsorship opportunities to fit your budget.</span></span></span><br />\n<br />\n<strong><span style="color:#202020\;"><span style="font-family:helvetica\,sans-serif\;"><span style="font-size:12.0pt\;">8:00 am:&nbsp\;Race Check-In&nbsp\;</span></span></span></strong><br />\n<strong><span style="color:#202020\;"><span style="font-family:helvetica\,sans-serif\;"><span style="font-size:12.0pt\;"><strong>8:30 am: 5K Race Begins</strong><br />\n<strong>9:30 am:&nbsp\;1 Mile Walk Begins</strong><br />\n<strong>10:30 am:&nbsp\;Awards Ceremony</strong><br />\n<strong>11:00 am: Race event concludes\, blueberry u-pick remains open</strong></span></span></span></strong>
LOCATION:Wish Farms Headquarters | Blueberry Field 1301 South Frontage Road\, Plant City\, FL 33563
UID:e.2462.16872
SEQUENCE:3
DTSTAMP:20260419T181320Z
URL:https://business.plantcity.org/events/details/berry-bolt-5k-16872
END:VEVENT

END:VCALENDAR
