BEGIN:VCALENDAR
VERSION:2.0
PRODID:-//ChamberMaster//Event Calendar 2.0//EN
METHOD:PUBLISH
X-PUBLISHED-TTL:P3D
REFRESH-INTERVAL:P3D
CALSCALE:GREGORIAN
BEGIN:VEVENT
DTSTART:20230303T153000Z
DTEND:20230303T170000Z
X-MICROSOFT-CDO-ALLDAYEVENT:FALSE
SUMMARY:Beginning Rumba
DESCRIPTION:Come join us for beginning Rumba lessons. Learn basic steps that you can use at the Social Dances on Saturday nights. Instructors are Tom and Cindy Bunn.
X-ALT-DESC;FMTTYPE=text/html:Come join us for beginning Rumba lessons. Learn basic steps that you can use at the Social Dances on Saturday nights. Instructors are Tom and Cindy Bunn.
LOCATION:Strawberry Square Dance Center 4401 Promenade Blvd Plant City\, FL 33563
UID:e.2462.13716
SEQUENCE:3
DTSTAMP:20260424T144233Z
URL:https://business.plantcity.org/events/details/beginning-rumba-03-03-2023-13716
END:VEVENT

END:VCALENDAR
