BEGIN:VCALENDAR
VERSION:2.0
PRODID:-//ChamberMaster//Event Calendar 2.0//EN
METHOD:PUBLISH
X-PUBLISHED-TTL:P3D
REFRESH-INTERVAL:P3D
CALSCALE:GREGORIAN
BEGIN:VEVENT
DTSTART:20250107T233000Z
DTEND:20250122T020000Z
X-MICROSOFT-CDO-ALLDAYEVENT:FALSE
SUMMARY:Beginner Square Dancing Lessons
DESCRIPTION:Modern Western Square Dancing Lessons. No experience required. Great physical and mental exercise and a fun social activity. Wear casual attire and comfortable shoes.
X-ALT-DESC;FMTTYPE=text/html:Modern Western Square Dancing Lessons. No experience required. Great physical and mental exercise and a fun social activity. Wear casual attire and comfortable shoes.
LOCATION:Strawberry Square Dance Center 4401 Promenade Blvd. Plant City\, FL 33563
UID:e.2462.16190
SEQUENCE:3
DTSTAMP:20260420T001306Z
URL:https://business.plantcity.org/events/details/beginner-square-dancing-lessons-16190
END:VEVENT

END:VCALENDAR
