BEGIN:VCALENDAR
VERSION:2.0
PRODID:-//ChamberMaster//Event Calendar 2.0//EN
METHOD:PUBLISH
X-PUBLISHED-TTL:P3D
REFRESH-INTERVAL:P3D
CALSCALE:GREGORIAN
BEGIN:VEVENT
DTSTART:20250116T223000Z
DTEND:20250116T233000Z
X-MICROSOFT-CDO-ALLDAYEVENT:FALSE
SUMMARY:Art from the Heart
DESCRIPTION:Visit us at the library to make your very own "Art from the Heart" craft of the day and chat with other crafters too!
X-ALT-DESC;FMTTYPE=text/html:Visit us at the library to make your very own &quot\;Art from the Heart&quot\; craft of the day and chat with other crafters too!
LOCATION:Bruton Memorial Library
UID:e.2462.16822
SEQUENCE:3
DTSTAMP:20260420T001447Z
URL:https://business.plantcity.org/events/details/art-from-the-heart-16822
END:VEVENT

END:VCALENDAR
