BEGIN:VCALENDAR
VERSION:2.0
PRODID:-//ChamberMaster//Event Calendar 2.0//EN
METHOD:PUBLISH
X-PUBLISHED-TTL:P3D
REFRESH-INTERVAL:P3D
CALSCALE:GREGORIAN
BEGIN:VEVENT
DTSTART:20250522T213000Z
DTEND:20250522T223000Z
X-MICROSOFT-CDO-ALLDAYEVENT:FALSE
SUMMARY:Art From The Heart
DESCRIPTION:Visit us at the library to make your very own "Art from the Heart" as you and fellow crafters try out a new artistic medium once a month! Supplies are provided.
X-ALT-DESC;FMTTYPE=text/html:Visit us at the library to make your very own &ldquo\;Art from the Heart&rdquo\; as you and fellow crafters try out a new artistic medium once a month! Supplies are provided.
LOCATION:Bruton Memorial Library
UID:e.2462.16958
SEQUENCE:3
DTSTAMP:20260419T212613Z
URL:https://business.plantcity.org/events/details/art-from-the-heart-05-22-2025-16958
END:VEVENT

END:VCALENDAR
