BEGIN:VCALENDAR
VERSION:2.0
PRODID:-//ChamberMaster//Event Calendar 2.0//EN
METHOD:PUBLISH
X-PUBLISHED-TTL:P3D
REFRESH-INTERVAL:P3D
CALSCALE:GREGORIAN
BEGIN:VEVENT
DTSTART:20250207T233000Z
DTEND:20250208T020000Z
X-MICROSOFT-CDO-ALLDAYEVENT:FALSE
SUMMARY:An Evening Of "African Americans and Labor"
DESCRIPTION:Keynote Speaker:\n\nMoka Brown\n\n"Business Owner" of I'LL FRY YO CHICKEN\n\n\n\nMaster of Ceremony\n\nMaurice "MO" Billington\n\n"The Cat Named MO Show on 102.5 The Bone"\n\nAuthor\, Poet\, Filmaker\n\n\n\nTitle Sponsor: Rooms To Go Foundation\n\n\n\n$50 per person\n\nPlease make checks payable to:\n\nPlant City Black Heritage Celebration\, inc\n\n1902 Bond Street Plant City\, FL 33563\n\n\n\nRSVP by January 14th\n\n**No Tickets Sold at the Door**
X-ALT-DESC;FMTTYPE=text/html:Keynote Speaker:<br />\nMoka Brown<br />\n&quot\;Business Owner&quot\; of I&#39\;LL FRY YO CHICKEN<br />\n<br />\nMaster of Ceremony<br />\nMaurice &quot\;MO&quot\; Billington<br />\n&quot\;The Cat Named MO Show on 102.5 The Bone&quot\;<br />\nAuthor\, Poet\, Filmaker<br />\n<br />\nTitle Sponsor: Rooms To Go Foundation<br />\n<br />\n$50 per person<br />\nPlease make checks payable to:<br />\nPlant City Black Heritage Celebration\, inc<br />\n1902 Bond Street Plant City\, FL 33563<br />\n<br />\nRSVP by January 14th<br />\n**No Tickets Sold at the Door**
LOCATION:HCC Trinkle Center 1206 North Park Rd Plant City FL 33563
UID:e.2462.16857
SEQUENCE:3
DTSTAMP:20260419T225808Z
URL:https://business.plantcity.org/events/details/an-evening-of-african-americans-and-labor-16857
END:VEVENT

END:VCALENDAR
