BEGIN:VCALENDAR
VERSION:2.0
PRODID:-//ChamberMaster//Event Calendar 2.0//EN
METHOD:PUBLISH
X-PUBLISHED-TTL:P3D
REFRESH-INTERVAL:P3D
CALSCALE:GREGORIAN
BEGIN:VEVENT
DTSTART:20251109T163000Z
DTEND:20251109T203000Z
X-MICROSOFT-CDO-ALLDAYEVENT:FALSE
SUMMARY:29th Annual Turkey Supper
DESCRIPTION:Hope's Annual Turkey Supper Menu includes\, turkey\, homemade dressing\, slaw\, mashed potatoes\, gravy\, corn\, green beans\, roll\, dessert and a beverage. Proceeds benefit our community.
X-ALT-DESC;FMTTYPE=text/html:Hope&#39\;s Annual Turkey Supper Menu includes\, turkey\, homemade dressing\, slaw\, mashed potatoes\, gravy\, corn\, green beans\, roll\, dessert and a beverage. Proceeds benefit our community.
LOCATION:Hope Lutheran Church 2001 North Park Road Plant City
UID:e.2462.17549
SEQUENCE:3
DTSTAMP:20260424T195413Z
URL:https://business.plantcity.org/events/details/29th-annual-turkey-supper-17549
END:VEVENT

END:VCALENDAR
