BEGIN:VCALENDAR
VERSION:2.0
PRODID:-//ChamberMaster//Event Calendar 2.0//EN
METHOD:PUBLISH
X-PUBLISHED-TTL:P3D
REFRESH-INTERVAL:P3D
CALSCALE:GREGORIAN
BEGIN:VEVENT
DTSTART:20251004T220000Z
DTEND:20251005T010000Z
X-MICROSOFT-CDO-ALLDAYEVENT:FALSE
SUMMARY:25th Anniversary Celebration
DESCRIPTION:The Archives cordially invites its members and the Plant City community to come and celebrate our 25th anniversary. We will be unveiling a new art installation at the Lee Building and a new exhibit that will be featured at the Archives.
X-ALT-DESC;FMTTYPE=text/html:The Archives cordially invites its members and the Plant City community to come and celebrate our 25th anniversary. We will be unveiling a new art installation at the Lee Building and a new exhibit that will be featured at the Archives.&nbsp\;
LOCATION:Lee Building 110 E Reynolds St. Historic Downtown Plant City
UID:e.2462.17373
SEQUENCE:3
DTSTAMP:20260424T225058Z
URL:https://business.plantcity.org/events/details/25th-anniversary-celebration-17373
END:VEVENT

END:VCALENDAR
