BEGIN:VCALENDAR
VERSION:2.0
PRODID:-//ChamberMaster//Event Calendar 2.0//EN
METHOD:PUBLISH
X-PUBLISHED-TTL:P3D
REFRESH-INTERVAL:P3D
CALSCALE:GREGORIAN
BEGIN:VEVENT
DTSTART:20250618T150000Z
DTEND:20250618T160000Z
X-MICROSOFT-CDO-ALLDAYEVENT:FALSE
SUMMARY:2025 Florida Legislative Session Update
DESCRIPTION:Join us for a Florida Legislative Update with special guest Ron Pierce from RSA Consulting.\n\n\n\nWhat passed? What didn't? And what made this year's legislative session go down in the history books?\n\n\n\n   RSVP now\, seats are limited! FREE for Chamber members\, $10 for non-members.
X-ALT-DESC;FMTTYPE=text/html:Join us for a Florida Legislative Update with special guest Ron Pierce from RSA Consulting.<br />\n<br />\nWhat passed? What didn&rsquo\;t? And what made this year&#39\;s legislative session go down in the history books?<br />\n<br />\n&#127903\;&#65039\; RSVP now\, seats are limited! FREE for Chamber members\, $10 for non-members.
LOCATION:United Food Bank & Services 702 E. Alsobrook Street
UID:e.2462.16994
SEQUENCE:3
DTSTAMP:20260419T225016Z
URL:https://business.plantcity.org/events/details/2025-florida-legislative-session-update-16994
END:VEVENT

END:VCALENDAR
